Package: REBET Version: 1.25.0 Command: rm -rf REBET.buildbin-libdir && mkdir REBET.buildbin-libdir && E:\biocbuild\bbs-3.21-bioc\R\bin\R.exe CMD INSTALL --build --library=REBET.buildbin-libdir REBET_1.25.0.tar.gz StartedAt: 2025-02-10 08:30:46 -0500 (Mon, 10 Feb 2025) EndedAt: 2025-02-10 08:30:59 -0500 (Mon, 10 Feb 2025) EllapsedTime: 13.6 seconds RetCode: 0 Status: OK PackageFile: REBET_1.25.0.zip PackageFileSize: 234.7 KiB