Package: REBET Version: 1.25.0 Command: chmod a+r REBET -R && E:\biocbuild\bbs-3.21-bioc\R\bin\R.exe CMD build --keep-empty-dirs --no-resave-data REBET StartedAt: 2025-02-12 21:12:24 -0500 (Wed, 12 Feb 2025) EndedAt: 2025-02-12 21:12:52 -0500 (Wed, 12 Feb 2025) EllapsedTime: 27.3 seconds RetCode: 0 Status: OK PackageFile: REBET_1.25.0.tar.gz PackageFileSize: 207.1 KiB