Package: REMP Version: 1.31.0 Command: /Library/Frameworks/R.framework/Resources/bin/R CMD INSTALL REMP StartedAt: 2025-02-09 15:43:38 -0500 (Sun, 09 Feb 2025) EndedAt: 2025-02-09 15:44:58 -0500 (Sun, 09 Feb 2025) EllapsedTime: 79.9 seconds RetCode: 0 Status: OK