Package: RGSEA Version: 1.41.0 Maintainer: Chengcheng Ma MaintainerEmail: ccma at sibs.ac.cn git_url: https://git.bioconductor.org/packages/RGSEA git_branch: devel git_last_commit: f8d6d9d git_last_commit_date: 2024-10-29 09:52:48 -0500 (Tue, 29 Oct 2024)