Package: RGSEA Version: 1.41.0 Command: /Library/Frameworks/R.framework/Resources/bin/R CMD build --keep-empty-dirs --no-resave-data RGSEA StartedAt: 2025-02-04 17:23:58 -0500 (Tue, 04 Feb 2025) EndedAt: 2025-02-04 17:24:19 -0500 (Tue, 04 Feb 2025) EllapsedTime: 20.2 seconds RetCode: 0 Status: OK PackageFile: RGSEA_1.41.0.tar.gz PackageFileSize: 1.723 MiB