Package: RGSEA Version: 1.41.0 Command: /Library/Frameworks/R.framework/Resources/bin/R CMD check --install=check:RGSEA.install-out.txt --library=/Library/Frameworks/R.framework/Resources/library --no-vignettes --timings RGSEA_1.41.0.tar.gz StartedAt: 2025-02-09 20:57:33 -0500 (Sun, 09 Feb 2025) EndedAt: 2025-02-09 20:57:48 -0500 (Sun, 09 Feb 2025) EllapsedTime: 15.3 seconds RetCode: 0 Status: OK CheckDir: RGSEA.Rcheck Warnings: 0