Package: RGSEA Version: 1.41.0 Command: /Library/Frameworks/R.framework/Resources/bin/R CMD INSTALL RGSEA StartedAt: 2025-02-09 15:01:13 -0500 (Sun, 09 Feb 2025) EndedAt: 2025-02-09 15:01:19 -0500 (Sun, 09 Feb 2025) EllapsedTime: 6.7 seconds RetCode: 0 Status: OK