Package: RGSEA Version: 1.41.0 Command: /home/biocbuild/R/R/bin/R CMD check --install=check:RGSEA.install-out.txt --library=/home/biocbuild/R/R/site-library --no-vignettes --timings RGSEA_1.41.0.tar.gz StartedAt: 2025-01-28 14:30:46 -0000 (Tue, 28 Jan 2025) EndedAt: 2025-01-28 14:31:25 -0000 (Tue, 28 Jan 2025) EllapsedTime: 39.0 seconds RetCode: 0 Status: OK CheckDir: RGSEA.Rcheck Warnings: 0