Package: RGSEA Version: 1.41.0 Command: /home/biocbuild/R/R/bin/R CMD INSTALL RGSEA StartedAt: 2025-01-29 19:30:42 -0000 (Wed, 29 Jan 2025) EndedAt: 2025-01-29 19:31:09 -0000 (Wed, 29 Jan 2025) EllapsedTime: 27.2 seconds RetCode: 0 Status: OK