Package: RGSEA Version: 1.41.0 Command: /home/biocbuild/bbs-3.21-bioc/R/bin/R CMD INSTALL RGSEA StartedAt: 2025-02-09 15:11:55 -0500 (Sun, 09 Feb 2025) EndedAt: 2025-02-09 15:11:57 -0500 (Sun, 09 Feb 2025) EllapsedTime: 2.1 seconds RetCode: 0 Status: OK