Package: RGSEA Version: 1.41.0 Command: chmod a+r RGSEA -R && E:\biocbuild\bbs-3.21-bioc\R\bin\R.exe CMD build --keep-empty-dirs --no-resave-data RGSEA StartedAt: 2025-02-09 21:10:09 -0500 (Sun, 09 Feb 2025) EndedAt: 2025-02-09 21:11:05 -0500 (Sun, 09 Feb 2025) EllapsedTime: 56.0 seconds RetCode: 0 Status: OK PackageFile: RGSEA_1.41.0.tar.gz PackageFileSize: 1.724 MiB