Package: RGSEA Version: 1.41.0 Command: E:\biocbuild\bbs-3.21-bioc\R\bin\R.exe CMD check --no-multiarch --install=check:RGSEA.install-out.txt --library=E:\biocbuild\bbs-3.21-bioc\R\library --no-vignettes --timings RGSEA_1.41.0.tar.gz StartedAt: 2025-02-05 05:06:44 -0500 (Wed, 05 Feb 2025) EndedAt: 2025-02-05 05:07:31 -0500 (Wed, 05 Feb 2025) EllapsedTime: 46.8 seconds RetCode: 0 Status: OK CheckDir: RGSEA.Rcheck Warnings: 0