Package: RGSEA Version: 1.41.0 Command: E:\biocbuild\bbs-3.21-bioc\R\bin\R.exe CMD INSTALL RGSEA StartedAt: 2025-02-09 15:21:21 -0500 (Sun, 09 Feb 2025) EndedAt: 2025-02-09 15:21:29 -0500 (Sun, 09 Feb 2025) EllapsedTime: 8.2 seconds RetCode: 0 Status: OK