Package: RITAN Version: 1.31.0 Command: /Library/Frameworks/R.framework/Resources/bin/R CMD build --keep-empty-dirs --no-resave-data RITAN StartedAt: 2025-02-04 17:25:11 -0500 (Tue, 04 Feb 2025) EndedAt: 2025-02-04 17:25:58 -0500 (Tue, 04 Feb 2025) EllapsedTime: 46.5 seconds RetCode: 0 Status: OK PackageFile: RITAN_1.31.0.tar.gz PackageFileSize: 877.7 KiB