Package: RITAN Version: 1.31.0 Command: /Library/Frameworks/R.framework/Resources/bin/R CMD check --install=check:RITAN.install-out.txt --library=/Library/Frameworks/R.framework/Resources/library --no-vignettes --timings RITAN_1.31.0.tar.gz StartedAt: 2025-02-04 21:01:00 -0500 (Tue, 04 Feb 2025) EndedAt: 2025-02-04 21:02:52 -0500 (Tue, 04 Feb 2025) EllapsedTime: 112.3 seconds RetCode: 0 Status: WARNINGS CheckDir: RITAN.Rcheck Warnings: 1