Package: RITAN Version: 1.31.0 Command: /home/biocbuild/R/R/bin/R CMD check --install=check:RITAN.install-out.txt --library=/home/biocbuild/R/R/site-library --no-vignettes --timings RITAN_1.31.0.tar.gz StartedAt: 2025-01-28 14:33:43 -0000 (Tue, 28 Jan 2025) EndedAt: 2025-01-28 14:39:52 -0000 (Tue, 28 Jan 2025) EllapsedTime: 369.3 seconds RetCode: 0 Status: WARNINGS CheckDir: RITAN.Rcheck Warnings: 1