Package: RITAN Version: 1.31.0 Command: /Library/Frameworks/R.framework/Resources/bin/R CMD check --install=check:RITAN.install-out.txt --library=/Library/Frameworks/R.framework/Resources/library --no-vignettes --timings RITAN_1.31.0.tar.gz StartedAt: 2025-02-03 22:51:36 -0500 (Mon, 03 Feb 2025) EndedAt: 2025-02-03 22:56:50 -0500 (Mon, 03 Feb 2025) EllapsedTime: 314.1 seconds RetCode: 0 Status: WARNINGS CheckDir: RITAN.Rcheck Warnings: 1