Package: RITAN Version: 1.31.0 Command: /home/biocbuild/bbs-3.21-bioc/R/bin/R CMD build --keep-empty-dirs --no-resave-data RITAN StartedAt: 2025-02-09 18:56:30 -0500 (Sun, 09 Feb 2025) EndedAt: 2025-02-09 18:58:14 -0500 (Sun, 09 Feb 2025) EllapsedTime: 103.1 seconds RetCode: 0 Status: OK PackageFile: RITAN_1.31.0.tar.gz PackageFileSize: 789.6 KiB