Package: RITAN Version: 1.31.0 Command: /home/biocbuild/bbs-3.21-bioc/R/bin/R CMD INSTALL RITAN StartedAt: 2025-02-03 15:49:08 -0500 (Mon, 03 Feb 2025) EndedAt: 2025-02-03 15:49:48 -0500 (Mon, 03 Feb 2025) EllapsedTime: 40.1 seconds RetCode: 0 Status: OK