Package: RITAN Version: 1.31.0 Command: rm -rf RITAN.buildbin-libdir && mkdir RITAN.buildbin-libdir && E:\biocbuild\bbs-3.21-bioc\R\bin\R.exe CMD INSTALL --build --library=RITAN.buildbin-libdir RITAN_1.31.0.tar.gz StartedAt: 2025-02-04 08:46:33 -0500 (Tue, 04 Feb 2025) EndedAt: 2025-02-04 08:47:26 -0500 (Tue, 04 Feb 2025) EllapsedTime: 52.9 seconds RetCode: 0 Status: OK PackageFile: RITAN_1.31.0.zip PackageFileSize: 457.9 KiB