Package: RITAN Version: 1.31.0 Command: chmod a+r RITAN -R && E:\biocbuild\bbs-3.21-bioc\R\bin\R.exe CMD build --keep-empty-dirs --no-resave-data RITAN StartedAt: 2025-02-09 21:12:35 -0500 (Sun, 09 Feb 2025) EndedAt: 2025-02-09 21:15:02 -0500 (Sun, 09 Feb 2025) EllapsedTime: 146.9 seconds RetCode: 0 Status: OK PackageFile: RITAN_1.31.0.tar.gz PackageFileSize: 350.6 KiB