Package: RIVER Version: 1.31.0 Command: /Library/Frameworks/R.framework/Resources/bin/R CMD build --keep-empty-dirs --no-resave-data RIVER StartedAt: 2025-02-09 17:25:09 -0500 (Sun, 09 Feb 2025) EndedAt: 2025-02-09 17:25:19 -0500 (Sun, 09 Feb 2025) EllapsedTime: 10.1 seconds RetCode: 0 Status: OK PackageFile: RIVER_1.31.0.tar.gz PackageFileSize: 1.471 MiB