Package: RIVER Version: 1.31.0 Command: /Library/Frameworks/R.framework/Resources/bin/R CMD check --install=check:RIVER.install-out.txt --library=/Library/Frameworks/R.framework/Resources/library --no-vignettes --timings RIVER_1.31.0.tar.gz StartedAt: 2025-02-09 20:59:08 -0500 (Sun, 09 Feb 2025) EndedAt: 2025-02-09 20:59:42 -0500 (Sun, 09 Feb 2025) EllapsedTime: 33.3 seconds RetCode: 0 Status: OK CheckDir: RIVER.Rcheck Warnings: 0