Package: RIVER Version: 1.31.0 Command: rm -rf RIVER.buildbin-libdir && mkdir RIVER.buildbin-libdir && /Users/biocbuild/BBS/utils/build-universal.sh RIVER_1.31.0.tar.gz /Library/Frameworks/R.framework/Resources/bin/R RIVER.buildbin-libdir StartedAt: 2025-02-10 01:12:10 -0500 (Mon, 10 Feb 2025) EndedAt: 2025-02-10 01:12:25 -0500 (Mon, 10 Feb 2025) EllapsedTime: 15.0 seconds RetCode: 0 Status: OK PackageFile: RIVER_1.31.0.tgz PackageFileSize: 1.504 MiB