Package: RIVER Version: 1.31.0 Command: /home/biocbuild/bbs-3.21-bioc/R/bin/R CMD check --install=check:RIVER.install-out.txt --library=/home/biocbuild/bbs-3.21-bioc/R/site-library --timings RIVER_1.31.0.tar.gz StartedAt: 2025-02-10 01:56:47 -0500 (Mon, 10 Feb 2025) EndedAt: 2025-02-10 01:58:15 -0500 (Mon, 10 Feb 2025) EllapsedTime: 88.1 seconds RetCode: 0 Status: OK CheckDir: RIVER.Rcheck Warnings: 0