Package: RIVER Version: 1.31.0 Command: /home/biocbuild/bbs-3.21-bioc/R/bin/R CMD INSTALL RIVER StartedAt: 2025-02-09 15:12:57 -0500 (Sun, 09 Feb 2025) EndedAt: 2025-02-09 15:13:05 -0500 (Sun, 09 Feb 2025) EllapsedTime: 7.5 seconds RetCode: 0 Status: OK