Package: RIVER Version: 1.31.0 Command: rm -rf RIVER.buildbin-libdir && mkdir RIVER.buildbin-libdir && E:\biocbuild\bbs-3.21-bioc\R\bin\R.exe CMD INSTALL --build --library=RIVER.buildbin-libdir RIVER_1.31.0.tar.gz StartedAt: 2025-02-10 08:33:56 -0500 (Mon, 10 Feb 2025) EndedAt: 2025-02-10 08:34:08 -0500 (Mon, 10 Feb 2025) EllapsedTime: 11.1 seconds RetCode: 0 Status: OK PackageFile: RIVER_1.31.0.zip PackageFileSize: 1.291 MiB