Package: RIVER Version: 1.31.0 Command: E:\biocbuild\bbs-3.21-bioc\R\bin\R.exe CMD check --no-multiarch --install=check:RIVER.install-out.txt --library=E:\biocbuild\bbs-3.21-bioc\R\library --no-vignettes --timings RIVER_1.31.0.tar.gz StartedAt: 2025-02-10 04:44:26 -0500 (Mon, 10 Feb 2025) EndedAt: 2025-02-10 04:46:04 -0500 (Mon, 10 Feb 2025) EllapsedTime: 97.5 seconds RetCode: 0 Status: OK CheckDir: RIVER.Rcheck Warnings: 0