Package: RLMM Version: 1.69.0 Command: /Library/Frameworks/R.framework/Resources/bin/R CMD build --keep-empty-dirs --no-resave-data RLMM StartedAt: 2025-02-12 17:25:30 -0500 (Wed, 12 Feb 2025) EndedAt: 2025-02-12 17:25:34 -0500 (Wed, 12 Feb 2025) EllapsedTime: 4.0 seconds RetCode: 0 Status: OK PackageFile: RLMM_1.69.0.tar.gz PackageFileSize: 419.4 KiB