Package: RLMM Version: 1.69.0 Command: /home/biocbuild/R/R/bin/R CMD check --install=check:RLMM.install-out.txt --library=/home/biocbuild/R/R/site-library --no-vignettes --timings RLMM_1.69.0.tar.gz StartedAt: 2025-01-28 14:34:19 -0000 (Tue, 28 Jan 2025) EndedAt: 2025-01-28 14:34:37 -0000 (Tue, 28 Jan 2025) EllapsedTime: 18.0 seconds RetCode: 0 Status: OK CheckDir: RLMM.Rcheck Warnings: 0