Package: RLMM Version: 1.69.0 Command: /Library/Frameworks/R.framework/Resources/bin/R CMD check --install=check:RLMM.install-out.txt --library=/Library/Frameworks/R.framework/Resources/library --no-vignettes --timings RLMM_1.69.0.tar.gz StartedAt: 2025-02-09 23:08:09 -0500 (Sun, 09 Feb 2025) EndedAt: 2025-02-09 23:08:35 -0500 (Sun, 09 Feb 2025) EllapsedTime: 26.3 seconds RetCode: 0 Status: OK CheckDir: RLMM.Rcheck Warnings: 0