Package: RLMM Version: 1.69.0 Command: /home/biocbuild/bbs-3.21-bioc/R/bin/R CMD build --keep-empty-dirs --no-resave-data RLMM StartedAt: 2025-02-09 18:57:06 -0500 (Sun, 09 Feb 2025) EndedAt: 2025-02-09 18:57:12 -0500 (Sun, 09 Feb 2025) EllapsedTime: 6.0 seconds RetCode: 0 Status: OK PackageFile: RLMM_1.69.0.tar.gz PackageFileSize: 419.5 KiB