Package: RLMM Version: 1.69.0 Command: chmod a+r RLMM -R && E:\biocbuild\bbs-3.21-bioc\R\bin\R.exe CMD build --keep-empty-dirs --no-resave-data RLMM StartedAt: 2025-02-12 21:20:02 -0500 (Wed, 12 Feb 2025) EndedAt: 2025-02-12 21:20:15 -0500 (Wed, 12 Feb 2025) EllapsedTime: 13.7 seconds RetCode: 0 Status: OK PackageFile: RLMM_1.69.0.tar.gz PackageFileSize: 229.8 KiB