Package: RLMM Version: 1.69.0 Command: E:\biocbuild\bbs-3.21-bioc\R\bin\R.exe CMD check --no-multiarch --install=check:RLMM.install-out.txt --library=E:\biocbuild\bbs-3.21-bioc\R\library --no-vignettes --timings RLMM_1.69.0.tar.gz StartedAt: 2025-02-10 04:45:04 -0500 (Mon, 10 Feb 2025) EndedAt: 2025-02-10 04:45:30 -0500 (Mon, 10 Feb 2025) EllapsedTime: 25.8 seconds RetCode: 0 Status: OK CheckDir: RLMM.Rcheck Warnings: 0