Package: RLMM Version: 1.69.0 Command: E:\biocbuild\bbs-3.21-bioc\R\bin\R.exe CMD INSTALL RLMM StartedAt: 2025-02-09 15:19:27 -0500 (Sun, 09 Feb 2025) EndedAt: 2025-02-09 15:19:40 -0500 (Sun, 09 Feb 2025) EllapsedTime: 12.8 seconds RetCode: 0 Status: OK