Package: RMassBank Version: 3.17.0 Command: /home/biocbuild/R/R/bin/R CMD build --keep-empty-dirs --no-resave-data RMassBank StartedAt: 2025-01-29 01:44:53 -0000 (Wed, 29 Jan 2025) EndedAt: 2025-01-29 01:55:26 -0000 (Wed, 29 Jan 2025) EllapsedTime: 632.6 seconds RetCode: 0 Status: OK PackageFile: RMassBank_3.17.0.tar.gz PackageFileSize: 1.438 MiB