Package: RMassBank Version: 3.17.0 Command: /Library/Frameworks/R.framework/Resources/bin/R CMD build --keep-empty-dirs --no-resave-data RMassBank StartedAt: 2025-02-09 18:11:15 -0500 (Sun, 09 Feb 2025) EndedAt: 2025-02-09 18:19:54 -0500 (Sun, 09 Feb 2025) EllapsedTime: 519.3 seconds RetCode: 0 Status: OK PackageFile: RMassBank_3.17.0.tar.gz PackageFileSize: 1.839 MiB