Package: RMassBank Version: 3.17.0 Command: /Library/Frameworks/R.framework/Resources/bin/R CMD INSTALL RMassBank StartedAt: 2025-02-12 15:39:22 -0500 (Wed, 12 Feb 2025) EndedAt: 2025-02-12 15:40:28 -0500 (Wed, 12 Feb 2025) EllapsedTime: 66.0 seconds RetCode: 0 Status: OK