Package: RMassBank Version: 3.17.0 Command: chmod a+r RMassBank -R && E:\biocbuild\bbs-3.21-bioc\R\bin\R.exe CMD build --keep-empty-dirs --no-resave-data RMassBank StartedAt: 2025-02-12 21:20:15 -0500 (Wed, 12 Feb 2025) EndedAt: 2025-02-12 21:30:48 -0500 (Wed, 12 Feb 2025) EllapsedTime: 632.3 seconds RetCode: 1 Status: ERROR PackageFile: None PackageFileSize: NA