Package: RMassBank Version: 3.17.0 Command: E:\biocbuild\bbs-3.21-bioc\R\bin\R.exe CMD check --no-multiarch --install=check:RMassBank.install-out.txt --library=E:\biocbuild\bbs-3.21-bioc\R\library --no-vignettes --timings RMassBank_3.17.0.tar.gz StartedAt: 2025-02-10 04:45:16 -0500 (Mon, 10 Feb 2025) EndedAt: 2025-02-10 04:51:39 -0500 (Mon, 10 Feb 2025) EllapsedTime: 383.2 seconds RetCode: 0 Status: OK CheckDir: RMassBank.Rcheck Warnings: 0