Package: RMassBank Version: 3.17.0 Command: E:\biocbuild\bbs-3.21-bioc\R\bin\R.exe CMD INSTALL RMassBank StartedAt: 2025-02-12 16:53:54 -0500 (Wed, 12 Feb 2025) EndedAt: 2025-02-12 16:56:19 -0500 (Wed, 12 Feb 2025) EllapsedTime: 144.5 seconds RetCode: 0 Status: OK