Package: RNAAgeCalc Version: 1.19.0 Command: /home/biocbuild/R/R/bin/R CMD check --install=check:RNAAgeCalc.install-out.txt --library=/home/biocbuild/R/R/site-library --no-vignettes --timings RNAAgeCalc_1.19.0.tar.gz StartedAt: 2025-01-28 14:35:38 -0000 (Tue, 28 Jan 2025) EndedAt: 2025-01-28 14:43:04 -0000 (Tue, 28 Jan 2025) EllapsedTime: 445.4 seconds RetCode: 0 Status: WARNINGS CheckDir: RNAAgeCalc.Rcheck Warnings: 5