Package: RNAAgeCalc Version: 1.19.0 Command: /home/biocbuild/R/R/bin/R CMD INSTALL RNAAgeCalc StartedAt: 2025-01-29 20:13:18 -0000 (Wed, 29 Jan 2025) EndedAt: 2025-01-29 20:14:29 -0000 (Wed, 29 Jan 2025) EllapsedTime: 71.2 seconds RetCode: 0 Status: OK