Package: RNAAgeCalc Version: 1.19.0 Command: rm -rf RNAAgeCalc.buildbin-libdir && mkdir RNAAgeCalc.buildbin-libdir && /Users/biocbuild/BBS/utils/build-universal.sh RNAAgeCalc_1.19.0.tar.gz /Library/Frameworks/R.framework/Resources/bin/R RNAAgeCalc.buildbin-libdir StartedAt: 2025-02-10 01:12:23 -0500 (Mon, 10 Feb 2025) EndedAt: 2025-02-10 01:13:37 -0500 (Mon, 10 Feb 2025) EllapsedTime: 73.2 seconds RetCode: 0 Status: OK PackageFile: RNAAgeCalc_1.19.0.tgz PackageFileSize: 3.47 MiB