Package: RNAAgeCalc Version: 1.19.0 Command: /Library/Frameworks/R.framework/Resources/bin/R CMD build --keep-empty-dirs --no-resave-data RNAAgeCalc StartedAt: 2025-02-09 18:11:36 -0500 (Sun, 09 Feb 2025) EndedAt: 2025-02-09 18:12:56 -0500 (Sun, 09 Feb 2025) EllapsedTime: 80.1 seconds RetCode: 0 Status: OK PackageFile: RNAAgeCalc_1.19.0.tar.gz PackageFileSize: 3.337 MiB