Package: RNAAgeCalc Version: 1.19.0 Command: /Library/Frameworks/R.framework/Resources/bin/R CMD check --install=check:RNAAgeCalc.install-out.txt --library=/Library/Frameworks/R.framework/Resources/library --no-vignettes --timings RNAAgeCalc_1.19.0.tar.gz StartedAt: 2025-02-09 23:08:51 -0500 (Sun, 09 Feb 2025) EndedAt: 2025-02-09 23:15:05 -0500 (Sun, 09 Feb 2025) EllapsedTime: 374.3 seconds RetCode: 0 Status: OK CheckDir: RNAAgeCalc.Rcheck Warnings: 0