Package: RNAAgeCalc Version: 1.19.0 Command: /Library/Frameworks/R.framework/Resources/bin/R CMD INSTALL RNAAgeCalc StartedAt: 2025-02-09 15:30:39 -0500 (Sun, 09 Feb 2025) EndedAt: 2025-02-09 15:31:50 -0500 (Sun, 09 Feb 2025) EllapsedTime: 70.5 seconds RetCode: 0 Status: OK