Package: RNAAgeCalc Version: 1.19.0 Command: /home/biocbuild/bbs-3.21-bioc/R/bin/R CMD build --keep-empty-dirs --no-resave-data RNAAgeCalc StartedAt: 2025-02-09 18:57:41 -0500 (Sun, 09 Feb 2025) EndedAt: 2025-02-09 18:58:52 -0500 (Sun, 09 Feb 2025) EllapsedTime: 70.1 seconds RetCode: 0 Status: OK PackageFile: RNAAgeCalc_1.19.0.tar.gz PackageFileSize: 3.32 MiB