Package: RNAAgeCalc Version: 1.19.0 Command: /home/biocbuild/bbs-3.21-bioc/R/bin/R CMD INSTALL RNAAgeCalc StartedAt: 2025-02-09 15:58:49 -0500 (Sun, 09 Feb 2025) EndedAt: 2025-02-09 15:59:41 -0500 (Sun, 09 Feb 2025) EllapsedTime: 52.7 seconds RetCode: 0 Status: OK