Package: RNAAgeCalc Version: 1.19.0 Command: chmod a+r RNAAgeCalc -R && E:\biocbuild\bbs-3.21-bioc\R\bin\R.exe CMD build --keep-empty-dirs --no-resave-data RNAAgeCalc StartedAt: 2025-02-09 21:13:57 -0500 (Sun, 09 Feb 2025) EndedAt: 2025-02-09 21:15:24 -0500 (Sun, 09 Feb 2025) EllapsedTime: 87.7 seconds RetCode: 0 Status: OK PackageFile: RNAAgeCalc_1.19.0.tar.gz PackageFileSize: 3.29 MiB